BEGIN:VCALENDAR
VERSION:2.0
PRODID:https://www.vratislavice101010.cz
X-WR-CALNAME:Kulturní centrum VRATISLAVICE 101010
X-WR-TIMEZONE:Europe/Prague
BEGIN:VTIMEZONE
TZID:Europe/Prague
X-LIC-LOCATION:Europe/Prague
END:VTIMEZONE
BEGIN:VEVENT
UID:69e8dcf802528
DTSTART:20260430T073000Z
SEQUENCE:0
TRANSP:OPAQUE
DTEND:20260430T090000Z
URL:https://www.vratislavice101010.cz/seminar-performance-leadership-1
LOCATION:Nad Školou 1675\, 463 11\, Liberec\, Česká Republika
SUMMARY:Seminář: PERFORMANCE LEADERSHIP
CLASS:PUBLIC
DESCRIPTION:Inspirativní setkání HR klubu Liberec. Pořádá: JuiceUp\nV
 stupné: ZDARMA PO REGISTRACI
DTSTAMP:20260422T143640Z
END:VEVENT
END:VCALENDAR