BEGIN:VCALENDAR
VERSION:2.0
PRODID:https://www.vratislavice101010.cz
X-WR-CALNAME:Kulturní centrum VRATISLAVICE 101010
X-WR-TIMEZONE:Europe/Prague
BEGIN:VTIMEZONE
TZID:Europe/Prague
X-LIC-LOCATION:Europe/Prague
END:VTIMEZONE
BEGIN:VEVENT
UID:69e8c2f723163
DTSTART:20261022T173000Z
SEQUENCE:0
TRANSP:OPAQUE
DTEND:20261022T190000Z
URL:https://www.vratislavice101010.cz/divadlo-shirley-valentine
LOCATION:Nad Školou 1675\, 463 11\, Liberec\, Česká Republika
SUMMARY:Divadlo: SHIRLEY VALENTINE
CLASS:PUBLIC
DESCRIPTION:Legendární one-woman show Simony Stašové.\nVstupné: 690 K
 č
DTSTAMP:20260422T124543Z
END:VEVENT
END:VCALENDAR