BEGIN:VCALENDAR
VERSION:2.0
PRODID:https://www.vratislavice101010.cz
X-WR-CALNAME:Kulturní centrum VRATISLAVICE 101010
X-WR-TIMEZONE:Europe/Prague
BEGIN:VTIMEZONE
TZID:Europe/Prague
X-LIC-LOCATION:Europe/Prague
END:VTIMEZONE
BEGIN:VEVENT
UID:69e8c2e403d5d
DTSTART:20261011T150000Z
SEQUENCE:0
TRANSP:OPAQUE
DTEND:20261011T163000Z
URL:https://www.vratislavice101010.cz/pro-rodiny-aladin-a-kouzelna-lampa
LOCATION:Nad Školou 1675\, 463 11\, Liberec\, Česká Republika
SUMMARY:Pro rodiny: ALADIN A KOUZELNÁ LAMPA
CLASS:PUBLIC
DESCRIPTION:Muzikál inspirovaný jedním z nejslavnějších příběhů v
 šech dob. Pořádá: Jakub Šmíd.\nVstupné: 367 Kč
DTSTAMP:20260422T124524Z
END:VEVENT
END:VCALENDAR