BEGIN:VCALENDAR
VERSION:2.0
PRODID:https://www.vratislavice101010.cz
X-WR-CALNAME:Kulturní centrum VRATISLAVICE 101010
X-WR-TIMEZONE:Europe/Prague
BEGIN:VTIMEZONE
TZID:Europe/Prague
X-LIC-LOCATION:Europe/Prague
END:VTIMEZONE
BEGIN:VEVENT
UID:69e8c24d24679
DTSTART:20260907T173000Z
SEQUENCE:0
TRANSP:OPAQUE
DTEND:20260907T190000Z
URL:https://www.vratislavice101010.cz/divadlo-velka-zebra-aneb-jak-ze-se-to
 -jmenujete
LOCATION:Nad Školou 1675\, 463 11\, Liberec\, Česká Republika
SUMMARY:Divadlo: VELKÁ ZEBRA ANEB JAK ŽE SE TO JMENUJETE?
CLASS:PUBLIC
DESCRIPTION:Komedie o tom\, proč před problémy (ne)utíkat. Pořádá: C
 oolturně\nVstupné: 990 Kč
DTSTAMP:20260422T124253Z
END:VEVENT
END:VCALENDAR