BEGIN:VCALENDAR
VERSION:2.0
PRODID:https://www.vratislavice101010.cz
X-WR-CALNAME:Kulturní centrum VRATISLAVICE 101010
X-WR-TIMEZONE:Europe/Prague
BEGIN:VTIMEZONE
TZID:Europe/Prague
X-LIC-LOCATION:Europe/Prague
END:VTIMEZONE
BEGIN:VEVENT
UID:69e8be9b5105e
DTSTART:20260709T170000Z
SEQUENCE:0
TRANSP:OPAQUE
DTEND:20260709T183000Z
URL:https://www.vratislavice101010.cz/koncert-the-neons-tela
LOCATION:Nad Školou 1675\, 463 11\, Liberec\, Česká Republika
SUMMARY:Koncert: THE NEONS + TĚLA
CLASS:PUBLIC
DESCRIPTION:Open-air koncert libereckých kapel v atriu Desítek.\nVstupné
 : 290 Kč
DTSTAMP:20260422T122707Z
END:VEVENT
END:VCALENDAR