BEGIN:VCALENDAR
VERSION:2.0
PRODID:https://www.vratislavice101010.cz
X-WR-CALNAME:Kulturní centrum VRATISLAVICE 101010
X-WR-TIMEZONE:Europe/Prague
BEGIN:VTIMEZONE
TZID:Europe/Prague
X-LIC-LOCATION:Europe/Prague
END:VTIMEZONE
BEGIN:VEVENT
UID:69e8c07c148f5
DTSTART:20260527T173000Z
SEQUENCE:0
TRANSP:OPAQUE
DTEND:20260527T190000Z
URL:https://www.vratislavice101010.cz/talkshow-mk-show-17
LOCATION:Nad Školou 1675\, 463 11\, Liberec\, Česká Republika
SUMMARY:Talkshow: MK SHOW
CLASS:PUBLIC
DESCRIPTION:Hosty Martina Krause budou Jan Tuna a rapper Rest. Pořádá: E
 mpire Music Production s.r.o.\nVstupné: 200 Kč
DTSTAMP:20260422T123508Z
END:VEVENT
END:VCALENDAR